BEGIN:VCALENDAR
VERSION:2.0
PRODID:www.dzs.cz
BEGIN:VEVENT
UID:69ea91f138f40
DTSTART:20260217T090000Z
SEQUENCE:0
TRANSP:OPAQUE
DTEND:20260217T110000Z
URL:https://dzs.cz/udalost/workshop-role-nqfs-union-skills-your-perspective
 -matters
SUMMARY:Event: Workshop The role of NQFs in the Union of Skills: your persp
 ective matters
CLASS:PUBLIC
DTSTAMP:20260423T214105Z
END:VEVENT
END:VCALENDAR