BEGIN:VCALENDAR
VERSION:2.0
PRODID:www.dzs.cz
BEGIN:VEVENT
UID:69ea9652797ef
DTSTART:20260218T170000Z
SEQUENCE:0
TRANSP:OPAQUE
DTEND:20260218T180000Z
URL:https://dzs.cz/udalost/webinar-epale-pravdy-myty-o-psychodiagnostice-v-
 rozvoji-0
SUMMARY:Event: Webinář EPALE: Pravdy a mýty o psychodiagnostice v rozvoj
 i
CLASS:PUBLIC
DTSTAMP:20260423T215946Z
END:VEVENT
END:VCALENDAR