BEGIN:VCALENDAR
VERSION:2.0
PRODID:www.dzs.cz
BEGIN:VEVENT
UID:69ea6028c4c91
DTSTART;VALUE=DATE:20260326
SEQUENCE:0
TRANSP:OPAQUE
DTEND;VALUE=DATE:20260327
URL:https://dzs.cz/udalost/informacni-den-klastr-2-kultura-kreativita-inklu
 zivni-spolecnost-0
SUMMARY:Event: Informační den: Klastr 2 – Kultura\, kreativita a inkluz
 ivní společnost
CLASS:PUBLIC
X-MICROSOFT-CDO-ALLDAYEVENT:TRUE
DTSTAMP:20260423T180840Z
END:VEVENT
END:VCALENDAR