BEGIN:VCALENDAR
VERSION:2.0
PRODID:www.dzs.cz
BEGIN:VEVENT
UID:69ea60286b717
DTSTART;VALUE=DATE:20260323
SEQUENCE:0
TRANSP:OPAQUE
DTEND;VALUE=DATE:20260326
URL:https://dzs.cz/udalost/european-climate-pact-annual-event-2026-together
 -action
SUMMARY:Event: European Climate Pact Annual Event 2026: Together in Action 
CLASS:PUBLIC
X-MICROSOFT-CDO-ALLDAYEVENT:TRUE
DTSTAMP:20260423T180840Z
END:VEVENT
END:VCALENDAR