BEGIN:VCALENDAR
VERSION:2.0
PRODID:www.dzs.cz
BEGIN:VEVENT
UID:69ea5fefb7ca6
DTSTART;VALUE=DATE:20260319
SEQUENCE:0
TRANSP:OPAQUE
DTEND;VALUE=DATE:20260321
URL:https://dzs.cz/udalost/konference-climate-neutral-blue-cities-2030-acce
 lerating-local-change
SUMMARY:Event: Konference Climate Neutral Blue Cities by 2030: Accelerating
  Local Change
CLASS:PUBLIC
X-MICROSOFT-CDO-ALLDAYEVENT:TRUE
DTSTAMP:20260423T180743Z
END:VEVENT
END:VCALENDAR