BEGIN:VCALENDAR
VERSION:2.0
PRODID:www.dzs.cz
BEGIN:VEVENT
UID:69ea5ff072a4f
DTSTART;VALUE=DATE:20260318
SEQUENCE:0
TRANSP:OPAQUE
DTEND;VALUE=DATE:20260319
URL:https://dzs.cz/udalost/informacni-den-vyzkumne-infrastruktury-programu-
 horizont-evropa
SUMMARY:Event: Informační den: Výzkumné infrastruktury programu Horizon
 t Evropa 
CLASS:PUBLIC
X-MICROSOFT-CDO-ALLDAYEVENT:TRUE
DTSTAMP:20260423T180744Z
END:VEVENT
END:VCALENDAR