BEGIN:VCALENDAR
VERSION:2.0
PRODID:www.dzs.cz
BEGIN:VEVENT
UID:69ea5fdf67b43
DTSTART;VALUE=DATE:20260311
SEQUENCE:0
TRANSP:OPAQUE
DTEND;VALUE=DATE:20260312
URL:https://dzs.cz/udalost/summit-2026-udrzitelna-mobilita-z-pohledu-podnik
 u
SUMMARY:Event: SUMMIT 2026: Udržitelná mobilita z pohledu podniků 
CLASS:PUBLIC
X-MICROSOFT-CDO-ALLDAYEVENT:TRUE
DTSTAMP:20260423T180727Z
END:VEVENT
END:VCALENDAR