BEGIN:VCALENDAR
VERSION:2.0
PRODID:www.dzs.cz
BEGIN:VEVENT
UID:69ea7e6b02b83
DTSTART;VALUE=DATE:20260309
SEQUENCE:0
TRANSP:OPAQUE
DTEND;VALUE=DATE:20260313
URL:https://dzs.cz/udalost/european-high-performance-computing-summit-2026
SUMMARY:Event: European High Performance Computing Summit 2026 
CLASS:PUBLIC
X-MICROSOFT-CDO-ALLDAYEVENT:TRUE
DTSTAMP:20260423T201747Z
END:VEVENT
END:VCALENDAR