BEGIN:VCALENDAR
VERSION:2.0
PRODID:www.dzs.cz
BEGIN:VEVENT
UID:69ea78c739b86
DTSTART;VALUE=DATE:20260215
SEQUENCE:0
TRANSP:OPAQUE
DTEND;VALUE=DATE:20260218
URL:https://dzs.cz/udalost/15-vyrocni-primy-dialog-starostu-hlavnich-mest-e
 u-s-evropskou-komisi
SUMMARY:Event: 15. výroční přímý dialog starostů hlavních měst EU 
 s Evropskou komisí
CLASS:PUBLIC
X-MICROSOFT-CDO-ALLDAYEVENT:TRUE
DTSTAMP:20260423T195343Z
END:VEVENT
END:VCALENDAR