BEGIN:VCALENDAR
VERSION:2.0
PRODID:www.dzs.cz
BEGIN:VEVENT
UID:69ea78e65bc59
DTSTART;VALUE=DATE:20260210
SEQUENCE:0
TRANSP:OPAQUE
DTEND;VALUE=DATE:20260211
URL:https://dzs.cz/udalost/konference-learn-plan-act-budovani-lokalnich-kap
 acit-pro-integrovane-energeticke-klimaticke
SUMMARY:Event: Konference Learn\, Plan\, Act: Budování lokálních kapaci
 t pro integrované energetické a klimatické plány 
CLASS:PUBLIC
X-MICROSOFT-CDO-ALLDAYEVENT:TRUE
DTSTAMP:20260423T195414Z
END:VEVENT
END:VCALENDAR