BEGIN:VCALENDAR
VERSION:2.0
PRODID:www.dzs.cz
BEGIN:VEVENT
UID:69ea78e68af7a
DTSTART;VALUE=DATE:20260210
SEQUENCE:0
TRANSP:OPAQUE
DTEND;VALUE=DATE:20260211
URL:https://dzs.cz/udalost/informacni-den-klastr-1-zdravi
SUMMARY:Event: Informační den: Klastr 1 - Zdraví 
CLASS:PUBLIC
X-MICROSOFT-CDO-ALLDAYEVENT:TRUE
DTSTAMP:20260423T195414Z
END:VEVENT
END:VCALENDAR