BEGIN:VCALENDAR
VERSION:2.0
PRODID:www.dzs.cz
BEGIN:VEVENT
UID:69ea78c1707d0
DTSTART;VALUE=DATE:20260129
SEQUENCE:0
TRANSP:OPAQUE
DTEND;VALUE=DATE:20260131
URL:https://dzs.cz/udalost/informacni-dny-klastr-4-digitalizace-prumysl-ves
 mir
SUMMARY:Event: Informační dny: Klastr 4 - Digitalizace\, průmysl a vesm
 ír 
CLASS:PUBLIC
X-MICROSOFT-CDO-ALLDAYEVENT:TRUE
DTSTAMP:20260423T195337Z
END:VEVENT
END:VCALENDAR