BEGIN:VCALENDAR
VERSION:2.0
PRODID:www.dzs.cz
BEGIN:VEVENT
UID:69ea7e4a74e6a
DTSTART;VALUE=DATE:20260127
SEQUENCE:0
TRANSP:OPAQUE
DTEND;VALUE=DATE:20260128
URL:https://dzs.cz/udalost/seminar-deep-dive-umela-inteligence-pro-klimatic
 ka-reseni
SUMMARY:Event: Seminář Deep dive: Umělá inteligence pro klimatická ře
 šení 
CLASS:PUBLIC
X-MICROSOFT-CDO-ALLDAYEVENT:TRUE
DTSTAMP:20260423T201714Z
END:VEVENT
END:VCALENDAR