BEGIN:VCALENDAR
VERSION:2.0
PRODID:www.dzs.cz
BEGIN:VEVENT
UID:69ea9173dbffc
DTSTART;VALUE=DATE:20260126
SEQUENCE:0
TRANSP:OPAQUE
DTEND;VALUE=DATE:20260131
URL:https://dzs.cz/udalost/partnerska-burza-pro-klastr-1-zdravi-programu-ho
 rizont-evropa
SUMMARY:Event: Partnerská burza pro Klastr 1 - Zdraví programu Horizont E
 vropa 
CLASS:PUBLIC
X-MICROSOFT-CDO-ALLDAYEVENT:TRUE
DTSTAMP:20260423T213859Z
END:VEVENT
END:VCALENDAR