BEGIN:VCALENDAR
VERSION:2.0
PRODID:www.dzs.cz
BEGIN:VEVENT
UID:69eaaad8ea6b2
DTSTART:20260211T090000Z
SEQUENCE:0
TRANSP:OPAQUE
DTEND:20260211T133000Z
URL:https://dzs.cz/udalost/wellbeing-pro-etwinnery-prezencni-seminar-v-praz
 e
SUMMARY:Event: Wellbeing pro eTwinnery: prezenční seminář v Praze
CLASS:PUBLIC
DTSTAMP:20260423T232720Z
END:VEVENT
END:VCALENDAR