BEGIN:VCALENDAR
VERSION:2.0
PRODID:www.dzs.cz
BEGIN:VEVENT
UID:69ea09051be8b
DTSTART;VALUE=DATE:20260204
SEQUENCE:0
TRANSP:OPAQUE
DTEND;VALUE=DATE:20260514
URL:https://dzs.cz/udalost/webinare-etwinning-2026-ucte-moderne-spolupracuj
 te-mezinarodne
SUMMARY:Event: Webináře eTwinning 2026: Učte moderně\, spolupracujte me
 zinárodně
CLASS:PUBLIC
X-MICROSOFT-CDO-ALLDAYEVENT:TRUE
DTSTAMP:20260423T115653Z
END:VEVENT
END:VCALENDAR