BEGIN:VCALENDAR
VERSION:2.0
PRODID:www.dzs.cz
BEGIN:VEVENT
UID:69ea9651bd8a4
DTSTART:20260212T130000Z
SEQUENCE:0
TRANSP:OPAQUE
DTEND:20260212T140000Z
URL:https://dzs.cz/udalost/odborne-vzdelavani-online-konzultace-pro-zadatel
 e-o-kratkodobe-projekty-ka122-vet-vyzva-0
SUMMARY:Event: ODBORNÉ VZDĚLÁVÁNÍ: Online konzultace pro žadatele o K
 rátkodobé projekty KA122-VET\, Výzva 2026
CLASS:PUBLIC
DTSTAMP:20260423T215945Z
END:VEVENT
END:VCALENDAR