BEGIN:VCALENDAR
VERSION:2.0
PRODID:www.dzs.cz
BEGIN:VEVENT
UID:69eaaad8701d1
DTSTART:20260205T123000Z
SEQUENCE:0
TRANSP:OPAQUE
DTEND:20260205T140000Z
URL:https://dzs.cz/udalost/informacni-webinar-k-zadosti-o-grant-na-dobrovol
 nicke-projekty-esc51
SUMMARY:Event: Informační webinář k žádosti o grant na Dobrovolnické
  projekty ESC51
CLASS:PUBLIC
DTSTAMP:20260423T232720Z
END:VEVENT
END:VCALENDAR