BEGIN:VCALENDAR
VERSION:2.0
PRODID:www.dzs.cz
BEGIN:VEVENT
UID:69ea964c67e3d
DTSTART:20260113T090000Z
SEQUENCE:0
TRANSP:OPAQUE
DTEND:20260113T123000Z
URL:https://dzs.cz/udalost/infowebinar-eacea-erasmus-european-degree-explor
 atory-action-vyhledove-projekty-erasmus
SUMMARY:Event: Infowebinář EACEA: Erasmus+ European Degree Exploratory Ac
 tion a Výhledové projekty Erasmus+ Vysokoškolské vzdělávání
CLASS:PUBLIC
DTSTAMP:20260423T215940Z
END:VEVENT
END:VCALENDAR