BEGIN:VCALENDAR
VERSION:2.0
PRODID:www.dzs.cz
BEGIN:VEVENT
UID:69eaa8c236a04
DTSTART:20260210T130000Z
SEQUENCE:0
TRANSP:OPAQUE
DTEND:20260210T150000Z
URL:https://dzs.cz/udalost/individualni-konzultace-pro-zadatele-o-solidarni
 -projekty-esc30-5
SUMMARY:Event: Individuální konzultace pro žadatele o solidární projek
 ty ESC30
CLASS:PUBLIC
DTSTAMP:20260423T231826Z
END:VEVENT
END:VCALENDAR