BEGIN:VCALENDAR
VERSION:2.0
PRODID:www.dzs.cz
BEGIN:VEVENT
UID:69ea090483fff
DTSTART;VALUE=DATE:20260609
SEQUENCE:0
TRANSP:OPAQUE
DTEND;VALUE=DATE:20260614
URL:https://dzs.cz/udalost/festival-noveho-evropskeho-bauhausu-0
SUMMARY:Event: Festival Nového evropského Bauhausu 
CLASS:PUBLIC
X-MICROSOFT-CDO-ALLDAYEVENT:TRUE
DTSTAMP:20260423T115652Z
END:VEVENT
END:VCALENDAR