BEGIN:VCALENDAR
VERSION:2.0
PRODID:www.dzs.cz
BEGIN:VEVENT
UID:69eaa8c77f28e
DTSTART:20251211T090000Z
SEQUENCE:0
TRANSP:OPAQUE
DTEND:20251211T103000Z
URL:https://dzs.cz/udalost/erasmus-mundus-otazky-odpovedi-eacea
SUMMARY:Event: Erasmus Mundus: Otázky a odpovědi EACEA 
CLASS:PUBLIC
DTSTAMP:20260423T231831Z
END:VEVENT
END:VCALENDAR