BEGIN:VCALENDAR
VERSION:2.0
PRODID:www.dzs.cz
BEGIN:VEVENT
UID:69ea9651f32ca
DTSTART;VALUE=DATE:20260122
SEQUENCE:0
TRANSP:OPAQUE
DTEND;VALUE=DATE:20260123
URL:https://dzs.cz/udalost/informacni-den-vyzvy-wideningu
SUMMARY:Event: Informační den: Výzvy Wideningu  
CLASS:PUBLIC
X-MICROSOFT-CDO-ALLDAYEVENT:TRUE
DTSTAMP:20260423T215945Z
END:VEVENT
END:VCALENDAR