BEGIN:VCALENDAR
VERSION:2.0
PRODID:www.dzs.cz
BEGIN:VEVENT
UID:69ea9346bb931
DTSTART;VALUE=DATE:20260115
SEQUENCE:0
TRANSP:OPAQUE
DTEND;VALUE=DATE:20260116
URL:https://dzs.cz/udalost/informacni-den-vyzvy-pro-klastr-5
SUMMARY:Event: Informační den: Výzvy pro klastr 5 
CLASS:PUBLIC
X-MICROSOFT-CDO-ALLDAYEVENT:TRUE
DTSTAMP:20260423T214646Z
END:VEVENT
END:VCALENDAR