BEGIN:VCALENDAR
VERSION:2.0
PRODID:www.dzs.cz
BEGIN:VEVENT
UID:69eaa8983ccef
DTSTART;VALUE=DATE:20251217
SEQUENCE:0
TRANSP:OPAQUE
DTEND;VALUE=DATE:20251219
URL:https://dzs.cz/udalost/konference-european-science-diplomacy
SUMMARY:Event: Konference European Science Diplomacy 
CLASS:PUBLIC
X-MICROSOFT-CDO-ALLDAYEVENT:TRUE
DTSTAMP:20260423T231744Z
END:VEVENT
END:VCALENDAR