BEGIN:VCALENDAR
VERSION:2.0
PRODID:www.dzs.cz
BEGIN:VEVENT
UID:69eaa8bcb87d0
DTSTART;VALUE=DATE:20251211
SEQUENCE:0
TRANSP:OPAQUE
DTEND;VALUE=DATE:20251212
URL:https://dzs.cz/udalost/informacni-dny-era-vyzvy-v-programu-widera
SUMMARY:Event: Informační dny: ERA výzvy v programu WIDERA  
CLASS:PUBLIC
X-MICROSOFT-CDO-ALLDAYEVENT:TRUE
DTSTAMP:20260423T231820Z
END:VEVENT
END:VCALENDAR