BEGIN:VCALENDAR
VERSION:2.0
PRODID:www.dzs.cz
BEGIN:VEVENT
UID:69ea7e6aae4bd
DTSTART:20260302T123000Z
SEQUENCE:0
TRANSP:OPAQUE
DTEND:20260302T140000Z
URL:https://dzs.cz/udalost/skolni-vzdelavani-online-konzultacni-hodiny-pro-
 zadatele-o-partnerstvi-pro-spolupraci-10
SUMMARY:Event: ŠKOLNÍ VZDĚLÁVÁNÍ: Online konzultační hodiny pro ža
 datele o Partnerství pro spolupráci (KA2)
CLASS:PUBLIC
DTSTAMP:20260423T201746Z
END:VEVENT
END:VCALENDAR