BEGIN:VCALENDAR
VERSION:2.0
PRODID:www.dzs.cz
BEGIN:VEVENT
UID:69eaad46e4f1f
DTSTART:20260211T130000Z
SEQUENCE:0
TRANSP:OPAQUE
DTEND:20260211T143000Z
URL:https://dzs.cz/udalost/skolni-vzdelavani-online-konzultacni-hodiny-k-po
 davavani-zadosti-o-kratkodobe-projekty-4
SUMMARY:Event: ŠKOLNÍ VZDĚLÁVÁNÍ: Online konzultační hodiny k podá
 vávání žádosti o Krátkodobé projekty mobilit (KA122)
CLASS:PUBLIC
DTSTAMP:20260423T233742Z
END:VEVENT
END:VCALENDAR