BEGIN:VCALENDAR
VERSION:2.0
PRODID:www.dzs.cz
BEGIN:VEVENT
UID:69eaa8739b174
DTSTART;VALUE=DATE:20251211
SEQUENCE:0
TRANSP:OPAQUE
DTEND;VALUE=DATE:20251212
URL:https://dzs.cz/udalost/informacni-den-eacea-erasmus-sport-pro-vyzvu-202
 6
SUMMARY:Event: Informační den EACEA: Erasmus+ Sport pro Výzvu 2026
CLASS:PUBLIC
X-MICROSOFT-CDO-ALLDAYEVENT:TRUE
DTSTAMP:20260423T231707Z
END:VEVENT
END:VCALENDAR