BEGIN:VCALENDAR
VERSION:2.0
PRODID:www.dzs.cz
BEGIN:VEVENT
UID:69eaa1282f497
DTSTART:20220119T130000Z
SEQUENCE:0
TRANSP:OPAQUE
DTEND:20220119T133000Z
URL:https://dzs.cz/en/event/ig-live-vsb-technical-university-ostrava
SUMMARY:Event: IG live with VSB - Technical University of Ostrava
CLASS:PUBLIC
DTSTAMP:20260423T224600Z
END:VEVENT
END:VCALENDAR